BEGIN:VCALENDAR
VERSION:2.0
PRODID:-//wp-events-plugin.com//7.2.3.1//EN
TZID:Europe/Paris
X-WR-TIMEZONE:Europe/Paris
BEGIN:VEVENT
UID:910@vcneuilly92.fr
DTSTART;TZID=Europe/Paris;VALUE=DATE:20260429
DTEND;TZID=Europe/Paris;VALUE=DATE:20260504
DTSTAMP:20250508T190453Z
URL:https://vcneuilly92.fr/events/the-traka-2026
SUMMARY:The Traka 2026
DESCRIPTION:Courses Gravel de 100\, 200\, 360 km ou Ultra (en autonomie) de
  560 km.\n\nAccessible facilement en TGV depuis Paris (7h30 de voyage)\, m
 ais penser à réserver les hébergement très tôt.\n\nRéserver sa place
  très tôt aussi pour l'ultra (seulement 100 places).
ATTACH;FMTTYPE=image/jpeg:https://vcneuilly92.fr/wp-content/uploads/2025/0
 5/The-Traka-2026.png
CATEGORIES:Gravel
END:VEVENT
BEGIN:VTIMEZONE
TZID:Europe/Paris
X-LIC-LOCATION:Europe/Paris
BEGIN:DAYLIGHT
DTSTART:20260329T030000
TZOFFSETFROM:+0100
TZOFFSETTO:+0200
TZNAME:CEST
END:DAYLIGHT
END:VTIMEZONE
END:VCALENDAR