BEGIN:VCALENDAR
VERSION:2.0
PRODID:-//wp-events-plugin.com//7.2.3.1//EN
TZID:Europe/Paris
X-WR-TIMEZONE:Europe/Paris
BEGIN:VEVENT
UID:82@vcneuilly92.fr
DTSTART;TZID=Europe/Paris:20191006T073000
DTEND;TZID=Europe/Paris:20191006T130000
DTSTAMP:20191002T101701Z
URL:https://vcneuilly92.fr/events/suresnes
SUMMARY:Randonnée des Vendanges (ACMV Suresnes)
DESCRIPTION:Randonnée des vendanges de Suresnes\n\nPiscine des Raguidelles
  27\, rue tournebroches Suresnes\n\nCadeaux souvenirs à l’arrivée pour
  les 40 ans du club\n\nSite officiel\n\nDépart de la mairie de Neuilly à
  7h30\n\n3 parcours : 54\, 75 et 93 kms\n\nLe Doodle : [wppcp_private_con
 tent]pour savoir qui vient[/wppcp_private_content]\n\n 	Parcours 54 kms: h
 ttps://www.strava.com/routes/22026622\n 	Parcours 75 kms : https://www.st
 rava.com/routes/22026631\n 	Parcours 93 kms : https://www.strava.com/rout
 es/22026648\n\n&nbsp\;\n\n&nbsp\;\n\n&nbsp\;\n\n&nbsp\;
CATEGORIES:CoDep 92
LOCATION:Mairie\, 96\, avenue du Roule\, Neuilly-sur-Seine\, 92200\, France
GEO:48.884605;2.26904049999996
X-APPLE-STRUCTURED-LOCATION;VALUE=URI;X-ADDRESS=96\, avenue du Roule\, Neui
 lly-sur-Seine\, 92200\, France;X-APPLE-RADIUS=100;X-TITLE=Mairie:geo:48.88
 4605,2.26904049999996
END:VEVENT
BEGIN:VTIMEZONE
TZID:Europe/Paris
X-LIC-LOCATION:Europe/Paris
BEGIN:DAYLIGHT
DTSTART:20190331T030000
TZOFFSETFROM:+0100
TZOFFSETTO:+0200
TZNAME:CEST
END:DAYLIGHT
END:VTIMEZONE
END:VCALENDAR