BEGIN:VCALENDAR
VERSION:2.0
PRODID:-//wp-events-plugin.com//7.2.3.1//EN
TZID:Europe/Paris
X-WR-TIMEZONE:Europe/Paris
BEGIN:VEVENT
UID:1022@vcneuilly92.fr
DTSTART;TZID=Europe/Paris:20260426T070000
DTEND;TZID=Europe/Paris:20260426T140000
DTSTAMP:20260423T113609Z
URL:https://vcneuilly92.fr/events/sorties-vcn-du-week-end-2026-04-26
SUMMARY:Sorties VCN du week-end
DESCRIPTION:Sortie VCN Semla\n\nUne semla est une brioche fourrée à la cr
 ème chantilly\, spécialité suédoise pour le Mardi gras également cons
 ommée dans les autres pays nordiques. Le nom vient du latin simila\, qui
  désigne la farine de blé la plus fine utilisée pour cette pâtisser
 ie.\n\n 	69 km (D+740)\n 	88 km (D+995)\n 	104 km (D+1155)\n 	127 km (D+14
 20)\n\n... et après ce bon petit plat\, on se retrouve tous à la buvette
  "La Pause Verte" de Neuilly à côté du lac Saint James (voir le marquer
  sur la map en bas).\n\n⚠ Instructions : pour télécharger les traces\,
  cliquer sur le texte de la distance choisie en bas de la map et ensuite l
 'icone "GPX" à droite du bandeau gris.\n\n[lfh-gpx src=https://vcneuilly9
 2.fr/wp-content/uploads/2026/04/Semla127.gpx color=orange width=4 title="T
 race du 127 km"][/lfh-gpx]\n[lfh-gpx src=https://vcneuilly92.fr/wp-content
 /uploads/2025/11/Semla104.gpx color=darkgreen width=4 title="Trace du 104 
 km"][/lfh-gpx]\n[lfh-gpx src=https://vcneuilly92.fr/wp-content/uploads/202
 5/11/Semla88.gpx color=darkblue width=4 title="Trace du 88 km"][/lfh-gpx]\
 n[lfh-gpx src=https://vcneuilly92.fr/wp-content/uploads/2025/11/Semla69.gp
 x color=darkred width=4 title="Trace du 69 km"][/lfh-gpx]\n[lfh-marker lat
 =48.87541436437472 lng=2.2564512325909627 color=red icon=beer title="Buvet
 te"][/lfh-marker]
ATTACH;FMTTYPE=image/jpeg:https://vcneuilly92.fr/wp-content/uploads/2025/0
 3/semla-1.jpg
CATEGORIES:Sortie Club
LOCATION:Mairie\, 96\, avenue du Roule\, Neuilly-sur-Seine\, 92200\, France
GEO:48.884605;2.26904049999996
X-APPLE-STRUCTURED-LOCATION;VALUE=URI;X-ADDRESS=96\, avenue du Roule\, Neui
 lly-sur-Seine\, 92200\, France;X-APPLE-RADIUS=100;X-TITLE=Mairie:geo:48.88
 4605,2.26904049999996
END:VEVENT
BEGIN:VTIMEZONE
TZID:Europe/Paris
X-LIC-LOCATION:Europe/Paris
BEGIN:DAYLIGHT
DTSTART:20260329T030000
TZOFFSETFROM:+0100
TZOFFSETTO:+0200
TZNAME:CEST
END:DAYLIGHT
END:VTIMEZONE
END:VCALENDAR