BEGIN:VCALENDAR
VERSION:2.0
PRODID:-//wp-events-plugin.com//7.2.3.1//EN
TZID:Europe/Paris
X-WR-TIMEZONE:Europe/Paris
BEGIN:VEVENT
UID:325@vcneuilly92.fr
DTSTART;TZID=Europe/Paris:20230910T070000
DTEND;TZID=Europe/Paris:20230910T143000
DTSTAMP:20240908T204205Z
URL:https://vcneuilly92.fr/events/randonnee-du-centenaire-route
SUMMARY:Pommes de Terre du Centenaire Route
DESCRIPTION:Trois parcours route complètement différents des années pré
 cédentes en Vallée de Chevreuse\, voici les fichiers GPX :  75 km ave
 c 750 m de D+\, 100 km avec 1150 m de D+ et 130 km avec 1500 m d
 e D+.\n\n\n 	Enregistrement ou inscription sur place à partir de 7h\n 	D
 épart entre 7 h1 5 et 9 h 00\n 	Arrivée jusqu'à 14 h 30\n 	
 Ravitaillement sur les parcours à l'église Saint-Ferréol à Saint-Forge
 t (double passage pour le 100km et 130km) ainsi qu'au départ et à l'arri
 vée (Bière pression de Nanterre à l'arrivée)\n 	Pas de balisage mais d
 es traces GPX et des feuilles de route\n 	Deux départs encadrés sur le 7
 5 km à 8 h 15 et 8 h 45 (allure 20-22 km/h)\n\nInscription Route\
 nInscriptions en ligne possible jusqu'à la dernière minute. Possibilité
  également de s'inscrire sur place mais il y aura peut-être un peu de qu
 eue.\n\nVente de billets en ligne\n\n\nFichiers GPX des parcours route (d
 éfinitifs)\n75 km\, 100 km et 130 km ainsi que les feuilles de rout
 e pdf 75 km\, 100 km\, 130 km.\n\n[leaflet-map height=450 zoomcontro
 l=0 fitbounds=true scrollwheel][leaflet-extramarker lat=48.70399725624925 
 lng=2.008836297880592 markerColor=orange shape=circle icon=fa prefix=fa-ut
 ensils]\n[elevation-track file="https://vcneuilly92.fr/wp-content/uploads/
 2023/09/PDT-2023-75km.gpx"]\n[elevation-track file="https://vcneuilly92.fr
 /wp-content/uploads/2023/09/PDT-2023-100km.gpx"]\n[elevation-track file="h
 ttps://vcneuilly92.fr/wp-content/uploads/2023/09/PDT-2023-130km.gpx"]\n[el
 evation-tracks summary filename] [fullscreen]
ATTACH;FMTTYPE=image/jpeg:https://vcneuilly92.fr/wp-content/uploads/2023/0
 7/2023-08-20-16-00-32.png
CATEGORIES:Cyclotourisme,Organisation VCN,Route
LOCATION:Stade Monclar\, Île de la Jatte\, 55 Bd du Parc\, Neuilly-sur-Sei
 ne\, 92200\, France
GEO:48.89198;2.262793
X-APPLE-STRUCTURED-LOCATION;VALUE=URI;X-ADDRESS=Île de la Jatte\, 55 Bd du
  Parc\, Neuilly-sur-Seine\, 92200\, France;X-APPLE-RADIUS=100;X-TITLE=Stad
 e Monclar:geo:48.89198,2.262793
END:VEVENT
BEGIN:VTIMEZONE
TZID:Europe/Paris
X-LIC-LOCATION:Europe/Paris
BEGIN:DAYLIGHT
DTSTART:20230326T030000
TZOFFSETFROM:+0100
TZOFFSETTO:+0200
TZNAME:CEST
END:DAYLIGHT
END:VTIMEZONE
END:VCALENDAR