BEGIN:VCALENDAR
VERSION:2.0
PRODID:-//wp-events-plugin.com//7.2.3.1//EN
TZID:Europe/Paris
X-WR-TIMEZONE:Europe/Paris
BEGIN:VEVENT
UID:326@vcneuilly92.fr
DTSTART;TZID=Europe/Paris:20230910T070000
DTEND;TZID=Europe/Paris:20230910T143000
DTSTAMP:20230909T174654Z
URL:https://vcneuilly92.fr/events/randonnee-du-centenaire-gravel
SUMMARY:Pommes de Terre du Centenaire Gravel
DESCRIPTION:Parcours gravel  de 85 km et 1000 m de D+ complètement di
 fférent des années précédentes.\n\nDu gravel roulant sur des allées b
 ien larges et un peu moins roulant sur de jolies singles (mais rien de tro
 p technique) et du bitume. Pneus de 40 mm minimum conseillés mais ça pas
 se en 35 (ça secoue juste un peu plus). Pour vélos de type gravel ou VTT
 .\n\nVous apprécierez le passage au château de la Madeleine (même si ç
 a secoue un peu dans la descente) et les 17 tournants version tout-terrain
 \, pour revenir ensuite tranquillement le long de la Seine par la Promenad
 e Bleue. Un petit passage par la Grande Arche et vous serez arrivés !\n\n
 Si toutefois le parcours prenait plus de temps que prévu\, il est assez f
 acile à couper (mais dans ce cas il faudra renoncer au ravito intermédia
 ire).\n\n 	Enregistrement / Inscription sur place à partir de 7 h\n 	D
 épart à 7 h 30\n 	Arrivée jusqu'à 14 h 30\n 	Ravitaillement su
 r le parcours (église Saint-Ferréol à Saint-Forget) ainsi qu'au départ
  et à l'arrivée (Bière pression de Nanterre à l'arrivée)\n 	Pas de ba
 lisage mais une trace GPX\n\nInscription Gravel\nInscriptions en ligne pos
 sible jusqu'à la dernière minute. Possibilité également de s'inscrire 
 sur place mais il y aura peut-être un peu de queue.\n\nVente de billets e
 n ligne\nParcours Gravel\n\n 	Fichier GPX\n 	Lien Google Maps avec points 
 d'eau (pour afficher sur smartphone)[leaflet-map height=400 fitbounds mapi
 d="OSM"]\n[elevation gpx="https://vcneuilly92.fr/wp-content/uploads/2023/0
 9/Pommes-de-Terre-Gravel-du-Centenaire-.gpx"]\n[zoomhomemap]\n[layerswitch
 ]\n[fullscreen]\n
ATTACH;FMTTYPE=image/jpeg:https://vcneuilly92.fr/wp-content/uploads/2023/0
 7/2023-08-20-16-00-32.png
CATEGORIES:Cyclotourisme,Gravel,Organisation VCN
LOCATION:Stade Monclar\, Île de la Jatte\, 55 Bd du Parc\, Neuilly-sur-Sei
 ne\, 92200\, France
GEO:48.89198;2.262793
X-APPLE-STRUCTURED-LOCATION;VALUE=URI;X-ADDRESS=Île de la Jatte\, 55 Bd du
  Parc\, Neuilly-sur-Seine\, 92200\, France;X-APPLE-RADIUS=100;X-TITLE=Stad
 e Monclar:geo:48.89198,2.262793
END:VEVENT
BEGIN:VTIMEZONE
TZID:Europe/Paris
X-LIC-LOCATION:Europe/Paris
BEGIN:DAYLIGHT
DTSTART:20230326T030000
TZOFFSETFROM:+0100
TZOFFSETTO:+0200
TZNAME:CEST
END:DAYLIGHT
END:VTIMEZONE
END:VCALENDAR