BEGIN:VCALENDAR
VERSION:2.0
PRODID:-//wp-events-plugin.com//7.2.3.1//EN
TZID:Europe/Paris
X-WR-TIMEZONE:Europe/Paris
BEGIN:VEVENT
UID:625@vcneuilly92.fr
DTSTART;TZID=Europe/Paris:20240915T070000
DTEND;TZID=Europe/Paris:20240915T140000
DTSTAMP:20240913T202642Z
URL:https://vcneuilly92.fr/events/randonnee-des-pommes-de-terre-2024
SUMMARY:Randonnée des Pommes de Terre 2024
DESCRIPTION:\n 	En 2024\, la Randonnée des Pommes de Terre vous propose 7 
 parcours en Vallée de Chevreuse pour tous les goûts :\n\n 	4 parcours Ro
 ute\n\n 	60 km (avec en option un groupe encadré\, rendez-vous à 8 h
  30)\, ravito à la maison de Bonheur de Magny-Village.\n 	80 km\, rav
 ito à la maison de Bonheur de Magny-Village.\n 	105 km\, 2 ravitos à l
 'Église Saint-Ferréol\n 	135 km\, 2 ravitos à l'Église Saint-Ferré
 ol\n\n\n 	3 parcours Pommes de terres Sautées pour vélos Gravel (ou VTT 
 XC) avec un mix de chemin\, single \, pistes cyclables et routes\n\n 	Parc
 ours 🥔🥔 : 60 km mais avec du D+ (600 m) et quelques parties techni
 ques\, 50 % offroad (une version raccourcie du 🥔🥔🥔). 1 ravito à 
 la maison de Bonheur de Magny-Village.\n 	Parcours 🥔🥔🥔 : 85 km 
 avec du D+ (1000 m) et des parties techniques\, 60 % offroad (presque le m
 ême parcours que lors du centenaire en 2203). 2 ravitos à l'Église Sain
 t-Ferréol et à la maison de Bonheur de  Magny-Village\, mais comme ils 
 sont asses proches l'un de l'autre\, vous pouvez couper au niveau du deuxi
 ème si vous voulez.\n 	Parcours 🥔🥔🥔🥔 : 95 km avec beaucoup 
 (1300 m) de D+ et de parties techniques\, 60 % offroad (une version "amél
 iorée" du 🥔🥔🥔). 2 ravitos à l'Église Saint-Ferréol et à la m
 aison de Bonheur de Magny-Village mais comme ils sont asses proches l'un d
 e l'autre\, vous pouvez couper au niveau du deuxième si vous voulez.\n\n\
 n\n\n\n\n 	Enregistrement ou inscription sur place à partir de 7h\n 	Dép
 art entre 7 h 15 et 9 h 00\n 	Arrivée jusqu'à 14 h 00\n 	Un 
 ou deux ravitaillements sur les parcours à l'église Saint-Ferréol de Sa
 int-Forget ou à la Maison des Bonheur de Magny-les-Hameaux ainsi que peti
 t déjeuner au départ et surtout barbecue à l'arrivée (avec de la bièr
 e pression de la Brasserie du Grand Paris).\n 	Attention pas de balisage m
 ais fichiers GPX (et feuilles de route pour la route) disponibles ci-desso
 us.\n 	Toilettes au ravito de Magny-Village\n\nInscriptions sur place ou e
 n ligne\, préférer l'inscription en ligne pour être sûr·e de ne pas f
 aire la queue.\n\nInscriptions en ligne possible jusqu'à la dernière min
 ute mais tarif préférentiel jusqu'au jeudi à 22h seulement.\nInscriptio
 ns Route\nVente de billets en ligne\nInscriptions Pommes de Terre Sautées
 \nAttention places limitées à 50 personnes !\n\nVente de billets en lign
 e\n\n&nbsp\;\nParcours\nRoute\n\n 	Trace GPX 60 km\n 	Trace GPX 80 km\n 	T
 race GPX 105 km\n 	Trace GPX 130 km\n 	Feuilles de Route\n\n[lfh-map]\n[lf
 h-gpx src=https://vcneuilly92.fr/wp-content/uploads/2024/09/PDT2024v135.gp
 x color=black width=4 title="135 km"][/lfh-gpx]\n[lfh-gpx src=https://vcne
 uilly92.fr/wp-content/uploads/2024/09/PDT2024v105.gpx color=red width=4 ti
 tle="105 km"][/lfh-gpx]\n[lfh-gpx src=https://vcneuilly92.fr/wp-content/up
 loads/2024/09/PDT2024v80.gpx color=blue width=4 title="80 km"][/lfh-gpx]\n
 [lfh-gpx src=https://vcneuilly92.fr/wp-content/uploads/2024/09/PDT2024v60.
 gpx color=darkgreen width=4 title="60 km"][/lfh-gpx]\n[lfh-marker lat=48.8
 91652 lng=2.26191 color=red icon=beer title="Arrivée"][/lfh-marker]\n[lfh
 -marker lat=48.7437437 lng=2.0622528 color=red icon=cutlery title="Maison 
 des Bonheurs"][/lfh-marker]\n[lfh-marker lat=48.703859 lng=2.008845 color
 =red icon=cutlery title="Église Saint-Férréol"][/lfh-marker]\nPommes de
  Terre Sautées\n\n 	Trace GPX 🥔🥔\n 	Trace GPX 🥔🥔🥔\n 	Trace
  GPX 🥔🥔🥔🥔\n\n[lfh-map]\n[lfh-gpx src=https://vcneuilly92.fr/wp
 -content/uploads/2024/09/2024-09-08_1849837011_Pommes-de-Terre-Sautees-4-p
 atates-v2024-09-08T20_53.gpx color=black width=4 title="🥔🥔🥔🥔"]
 [/lfh-gpx]\n[lfh-gpx src=https://vcneuilly92.fr/wp-content/uploads/2024/09
 /2024-09-08_1849834860_Pommes-de-Terre-Sautees-3-patates-v2024-09-08T20_53
 .gpx color=darkred width=4 title="🥔🥔🥔"][/lfh-gpx]\n[lfh-gpx src=h
 ttps://vcneuilly92.fr/wp-content/uploads/2024/09/2024-09-08_1849833328_Pom
 mes-de-Terre-Sautees-2-patates-v2024-09-08T20_53.gpx color=orange width=4 
 title="🥔🥔"][/lfh-gpx]\n[lfh-marker lat=48.891652 lng=2.26191 color=r
 ed icon=beer title="Arrivée"][/lfh-marker]\n[lfh-marker lat=48.7437437 ln
 g=2.0622528 color=red icon=cutlery title="Maison des Bonheurs"][/lfh-marke
 r]\n[lfh-marker lat=48.703859 lng=2.008845 color=red icon=cutlery title="
 Église Saint-Férréol"][/lfh-marker]
ATTACH;FMTTYPE=image/jpeg:https://vcneuilly92.fr/wp-content/uploads/2024/0
 6/RPDT-2024-V4.png
CATEGORIES:Organisation VCN
LOCATION:Stade Monclar\, Île de la Jatte\, 55 Bd du Parc\, Neuilly-sur-Sei
 ne\, 92200\, France
GEO:48.89198;2.262793
X-APPLE-STRUCTURED-LOCATION;VALUE=URI;X-ADDRESS=Île de la Jatte\, 55 Bd du
  Parc\, Neuilly-sur-Seine\, 92200\, France;X-APPLE-RADIUS=100;X-TITLE=Stad
 e Monclar:geo:48.89198,2.262793
END:VEVENT
BEGIN:VTIMEZONE
TZID:Europe/Paris
X-LIC-LOCATION:Europe/Paris
BEGIN:DAYLIGHT
DTSTART:20240331T030000
TZOFFSETFROM:+0100
TZOFFSETTO:+0200
TZNAME:CEST
END:DAYLIGHT
END:VTIMEZONE
END:VCALENDAR