BEGIN:VCALENDAR
VERSION:2.0
PRODID:-//wp-events-plugin.com//7.2.3.1//EN
TZID:Europe/Paris
X-WR-TIMEZONE:Europe/Paris
BEGIN:VEVENT
UID:983@vcneuilly92.fr
DTSTART;TZID=Europe/Paris:20260509T070000
DTEND;TZID=Europe/Paris:20260509T180000
DTSTAMP:20260420T163037Z
URL:https://vcneuilly92.fr/events/dodecaudax-du-vcn-s03-05
SUMMARY:Dodécaudax du VCN S03#05 Neuilly – Giverny – Neuilly
DESCRIPTION:Chaque 2ème samedi du mois\, pour la 3ème saison\, le VCN org
 anise le «Dodécaudax du VCN» un parcours de 200 km sur route\, soit en 
 boucle\, soit avec retour en train. Le principe d’un Dodécaudax (= dod
 éca (12 en grec) + Audax) consiste à réaliser une randonnée d’au min
 imum 200 kilomètres chaque mois pendant 12 mois consécutifs. Il est poss
 ible de commencer à n’importe quel moment de l’année.\n\nLors de ce 
 Dodécaudax du VCN de mai 2026 on traversera le Vexin pour arriver à Give
 rny et puis revenir. La parcours finira à la brasserie “Au Bureau" à C
 lichy pour ceux qui voudront se désaltérer à la fin. La trace sera publ
 iée le lundi précèdent l´événement\, mais à titre d’information e
 lle fera dans les 1.900m de D+.\n\nC’est un évènement gratuit et en to
 tale autonomie\, et de ce fait il n´y aura pas de ravitaillement (ni au d
 épart\, ni en route\, ni à l’arrivée)\, mais les parcours 100 % rou
 te passent par beaucoup de villages avec de quoi se restaurer. Les partici
 pants s’inscrivent pour rouler en groupe sur une allure choisie. Le nomb
 re de participants est limité à 100 pour des questions d’organisation 
 et de sécurité.\n\n 	Allure 28 km/h : 7h00\n 	Allure 26 km/h : 7h10\n 	
 Allure 24 km/h : 7h20\n 	Allure 22 km/h : 7h30\n\nInscription gratuite mai
 s obligatoire\, limitée à 100 participants. Pour des questions d’assur
 ance on a besoin de votre nom et date de naissance exacts\, et surtout que
  le jour de l’évènement vous passiez au départ pour le pointage.\nVen
 te de billets en ligne\n\nMaison de Monet
ATTACH;FMTTYPE=image/jpeg:https://vcneuilly92.fr/wp-content/uploads/2024/0
 4/V5-DODECAUDAX.png
CATEGORIES:Dodécaudax
LOCATION:Mairie\, 96\, avenue du Roule\, Neuilly-sur-Seine\, 92200\, France
GEO:48.884605;2.26904049999996
X-APPLE-STRUCTURED-LOCATION;VALUE=URI;X-ADDRESS=96\, avenue du Roule\, Neui
 lly-sur-Seine\, 92200\, France;X-APPLE-RADIUS=100;X-TITLE=Mairie:geo:48.88
 4605,2.26904049999996
END:VEVENT
BEGIN:VTIMEZONE
TZID:Europe/Paris
X-LIC-LOCATION:Europe/Paris
BEGIN:DAYLIGHT
DTSTART:20260329T030000
TZOFFSETFROM:+0100
TZOFFSETTO:+0200
TZNAME:CEST
END:DAYLIGHT
END:VTIMEZONE
END:VCALENDAR