BEGIN:VCALENDAR
VERSION:2.0
PRODID:-//wp-events-plugin.com//7.2.3.1//EN
TZID:Europe/Paris
X-WR-TIMEZONE:Europe/Paris
BEGIN:VEVENT
UID:303@vcneuilly92.fr
DTSTART;TZID=Europe/Paris:20230415T080000
DTEND;TZID=Europe/Paris:20230415T130000
DTSTAMP:20230407T094302Z
URL:https://vcneuilly92.fr/events/cc04-2023-paris-etampes
SUMMARY:#CC04 2023 Paris - Étampes
DESCRIPTION:https://www.classicschallenge.cc/event-details/cc04-2023-paris-
 etampes\n- 8h00 - allure 35+ km/h*\n- 8h15 - allure 30-35 km/h\n- 8h30 - a
 llure 27-30 km/h\n- 8h45 - allure 25-27 km/h\n- 9h00 - allure 23-25 km/h\n
 - 9h15 - allure 20-23 km/h\n* Correspond à votre allure moyenne maximale 
 sur une sortie de 2h sur un parcours légèrement vallonné.\n\nLa trace e
 n GPX ou STRAVA\n[leaflet-map height=450 zoomcontrol=0 fitbounds=true scro
 llwheel]\n[elevation-track file="https://vcneuilly92.fr/wp-content/uploads
 /2023/04/CC04-Paris-Etampes.gpx"]\n[elevation-tracks summary filename] [fu
 llscreen]
ATTACH;FMTTYPE=image/jpeg:https://vcneuilly92.fr/wp-content/uploads/2023/0
 1/17358673_1360895410637492_7087912164256406348_o.png
CATEGORIES:Classics Challenge
LOCATION:La Grande Cascade\, Longchamp\,75016 Paris\, France\, La grande ca
 scade\, Paris\, 75016\, France
GEO:48.862699;2.240437
X-APPLE-STRUCTURED-LOCATION;VALUE=URI;X-ADDRESS=La grande cascade\, Paris\,
  75016\, France;X-APPLE-RADIUS=100;X-TITLE=La Grande Cascade\, Longchamp\,
 75016 Paris\, France:geo:48.862699,2.240437
END:VEVENT
BEGIN:VTIMEZONE
TZID:Europe/Paris
X-LIC-LOCATION:Europe/Paris
BEGIN:DAYLIGHT
DTSTART:20230326T030000
TZOFFSETFROM:+0100
TZOFFSETTO:+0200
TZNAME:CEST
END:DAYLIGHT
END:VTIMEZONE
END:VCALENDAR