BEGIN:VCALENDAR
VERSION:2.0
PRODID:-//wp-events-plugin.com//7.2.3.1//EN
TZID:Europe/Paris
X-WR-TIMEZONE:Europe/Paris
BEGIN:VEVENT
UID:39@vcneuilly92.fr
DTSTART;TZID=Europe/Paris:20190310T070000
DTEND;TZID=Europe/Paris:20190310T203000
DTSTAMP:20190110T170346Z
URL:https://vcneuilly92.fr/events/brm-200-andresy
SUMMARY:BRM 200 Andrésy
DESCRIPTION:Site Officiel\nhttp://andresy-cyclo.fr/index.php/route-brm-200/
 \nParcours\n[sgpx gpx="/wp-content/uploads/gpx/2019-01-10_54496542_BRM 200
  Andrésy.gpx"]
CATEGORIES:Brevets des Randonneurs Mondiaux (BRM),Cyclotourisme
LOCATION:Parc de Loisirs des Cardinettes (Stéphane Diagana) – Sente Des 
 Pointes – 78570 Andrésy\, Parc de Loisirs des Cardinettes (Stéphane Di
 agana) – Sente Des Pointes\, Andrésy\, France
GEO:48.965271;2.0413826999999856
X-APPLE-STRUCTURED-LOCATION;VALUE=URI;X-ADDRESS=Parc de Loisirs des Cardine
 ttes (Stéphane Diagana) – Sente Des Pointes\, Andrésy\, France;X-APPLE
 -RADIUS=100;X-TITLE=Parc de Loisirs des Cardinettes (Stéphane Diagana) 
 – Sente Des Pointes – 78570 Andrésy:geo:48.965271,2.0413826999999856
END:VEVENT
BEGIN:VTIMEZONE
TZID:Europe/Paris
X-LIC-LOCATION:Europe/Paris
BEGIN:STANDARD
DTSTART:20181028T020000
TZOFFSETFROM:+0200
TZOFFSETTO:+0100
TZNAME:CET
END:STANDARD
END:VTIMEZONE
END:VCALENDAR